BEGIN:VCALENDAR
VERSION:2.0
PRODID:-//Turn- und Sportverein 1891 Medenbach e. V. - ECPv6.15.18//NONSGML v1.0//EN
CALSCALE:GREGORIAN
METHOD:PUBLISH
X-ORIGINAL-URL:https://www.tus-medenbach.de
X-WR-CALDESC:Veranstaltungen für Turn- und Sportverein 1891 Medenbach e. V.
REFRESH-INTERVAL;VALUE=DURATION:PT1H
X-Robots-Tag:noindex
X-PUBLISHED-TTL:PT1H
BEGIN:VTIMEZONE
TZID:Europe/Berlin
BEGIN:DAYLIGHT
TZOFFSETFROM:+0100
TZOFFSETTO:+0200
TZNAME:CEST
DTSTART:20250330T010000
END:DAYLIGHT
BEGIN:STANDARD
TZOFFSETFROM:+0200
TZOFFSETTO:+0100
TZNAME:CET
DTSTART:20251026T010000
END:STANDARD
BEGIN:DAYLIGHT
TZOFFSETFROM:+0100
TZOFFSETTO:+0200
TZNAME:CEST
DTSTART:20260329T010000
END:DAYLIGHT
BEGIN:STANDARD
TZOFFSETFROM:+0200
TZOFFSETTO:+0100
TZNAME:CET
DTSTART:20261025T010000
END:STANDARD
BEGIN:DAYLIGHT
TZOFFSETFROM:+0100
TZOFFSETTO:+0200
TZNAME:CEST
DTSTART:20270328T010000
END:DAYLIGHT
BEGIN:STANDARD
TZOFFSETFROM:+0200
TZOFFSETTO:+0100
TZNAME:CET
DTSTART:20271031T010000
END:STANDARD
END:VTIMEZONE
BEGIN:VEVENT
DTSTART;VALUE=DATE:20260406
DTEND;VALUE=DATE:20260411
DTSTAMP:20260421T123118
CREATED:20260225T081447Z
LAST-MODIFIED:20260225T081905Z
UID:2035-1775433600-1775865599@www.tus-medenbach.de
SUMMARY:Fußballferiencamp Deider
DESCRIPTION:Vom 06. bis 10. April 2026 findet auf unserem Sportgelände das Fußballferiencamp Deider statt – organisiert von Dennis Deider\, Spieler des TuS Medenbach\, und seinem Bruder Sven Deider\, in Kooperation mit dem TuS Medenbach. \nMehr Informationen unter: https://www.tus-medenbach.de/%e2%9a%bdfussballferiencamp-deider-beim-tus-medenbach-ostercamp-2026/
URL:https://www.tus-medenbach.de/event/fussballferiencamp-deider/
LOCATION:Sportplatz\, Am Sportfeld 2\, Wiesbaden-Medenbach\, 65207
CATEGORIES:Fußball Jugend
ATTACH;FMTTYPE=image/png:https://www.tus-medenbach.de/wp-content/uploads/2026/02/Fussballcamp_Deider.png
END:VEVENT
END:VCALENDAR