BEGIN:VCALENDAR
VERSION:2.0
PRODID:-//Turn- und Sportverein 1891 Medenbach e. V. - ECPv6.15.18//NONSGML v1.0//EN
CALSCALE:GREGORIAN
METHOD:PUBLISH
X-ORIGINAL-URL:https://www.tus-medenbach.de
X-WR-CALDESC:Veranstaltungen für Turn- und Sportverein 1891 Medenbach e. V.
REFRESH-INTERVAL;VALUE=DURATION:PT1H
X-Robots-Tag:noindex
X-PUBLISHED-TTL:PT1H
BEGIN:VTIMEZONE
TZID:Europe/Berlin
BEGIN:DAYLIGHT
TZOFFSETFROM:+0100
TZOFFSETTO:+0200
TZNAME:CEST
DTSTART:20250330T010000
END:DAYLIGHT
BEGIN:STANDARD
TZOFFSETFROM:+0200
TZOFFSETTO:+0100
TZNAME:CET
DTSTART:20251026T010000
END:STANDARD
BEGIN:DAYLIGHT
TZOFFSETFROM:+0100
TZOFFSETTO:+0200
TZNAME:CEST
DTSTART:20260329T010000
END:DAYLIGHT
BEGIN:STANDARD
TZOFFSETFROM:+0200
TZOFFSETTO:+0100
TZNAME:CET
DTSTART:20261025T010000
END:STANDARD
BEGIN:DAYLIGHT
TZOFFSETFROM:+0100
TZOFFSETTO:+0200
TZNAME:CEST
DTSTART:20270328T010000
END:DAYLIGHT
BEGIN:STANDARD
TZOFFSETFROM:+0200
TZOFFSETTO:+0100
TZNAME:CET
DTSTART:20271031T010000
END:STANDARD
END:VTIMEZONE
BEGIN:VEVENT
DTSTART;TZID=Europe/Berlin:20260320T190000
DTEND;TZID=Europe/Berlin:20260320T210000
DTSTAMP:20260421T111052
CREATED:20260224T211817Z
LAST-MODIFIED:20260224T211817Z
UID:2011-1774033200-1774040400@www.tus-medenbach.de
SUMMARY:Jahreshauptversammlung 2026
DESCRIPTION:Der Vorstand des TuS Medenbach 1891 e. V. lädt gemäß § 15 der Vereinssatzung alle Mitglieder herzlich zur ordentlichen Jahreshauptversammlung 2026 ein.
URL:https://www.tus-medenbach.de/event/jahreshauptversammlung-2026/
LOCATION:Turnhalle\, Am Sportfeld 2\, Wiesbaden-Medenbach\, 65207
CATEGORIES:Gesamt-Verein
END:VEVENT
END:VCALENDAR